{"text_format":"2","workbook":"xlsx","n_sheets":3,"sheets":["Teamübersicht","Auswertung","Auswahldaten"],"not_rendered":{"charts":1,"images":1,"macros":0,"external_links":0,"defined_names":8,"comments":1,"pivot_tables":0},"unopened":[],"bounds":{"document_bytes":16777216,"sheet_cells":100000,"run_cost":"one","rows_first":2000,"rows_last":500,"rows_between":2000,"halvings":0,"cell_chars":16384,"cell_head_chars":4096},"cells_cut":0,"cells_raw":0,"read":"whole","date_system":"1900"}

{"sheet":"Teamübersicht","index":0,"n_rows":37,"n_cols":15,"rows_kept":37,"cut":false,"hidden":false,"merged":[]}
["Mannschaftsname","Abtsroda",{"$f":"SUM(F4:F28)","v":1712.462},{"$nulls":11},{"$f":"SUM(N4:N28)","v":48}]
["Teamart","Männer"]
[null,"Name","m/w","Alter","Faktor","Leistung","1. Stunde","2.Stunde","3.Stunde","4. Stunde","5. Stunde","6. Stunde","7.Stunde","Anzahl","Beste"]
["Fahrer 1 :","Hahl, Klaus-Dieter","männlich",43,1,{"$f":"SUM(G4:M4)*E4","v":197.38000000000002},42.48,39.76,41.28,37.840000000000003,36.020000000000003,0,0,{"$f":"COUNTIF(G4:M4,\">0\")","v":5},{"$f":"MAX(G4:M4)","v":42.48}]
["Fahrer 2 :","Flügel, Winfried","männlich",48,1,{"$f":"SUM(G5:M5)*E5","v":72.990000000000009},35.39,37.6,0,0,0,0,0,{"$f":"COUNTIF(G5:M5,\">0\")","v":2},{"$f":"MAX(G5:M5)","v":37.6}]
["Fahrer 3 :","Krenzer, Ronald","männlich",41,1,190.09000000000003,33.72,30.01,31.6,31.58,30.1,33.08,0,6,33.72]
["Fahrer 4 :","Kümmel, Elias","männlich",30,1,205.63,36.619999999999997,34.06,33.17,34.33,33.35,34.1,0,6,36.619999999999997]
["Fahrer 5 :","Schleicher, Jonas","männlich",18,1,95.5,36,29.89,29.61,0,0,0,0,3,36]
["Fahrer 6 :","Nassauer, Thorsten","männlich",22,1,220.14000000000001,35.44,36.36,36.79,37.33,35.97,38.25,0,6,38.25]
["Fahrer 7 :","Hahl, Herbert","männlich",45,1,232.57,39.76,38.840000000000003,39.29,38.049999999999997,38.03,38.6,0,6,39.76]
["Fahrer 8 :","Schleicher, Peter","männlich",42,1,220.56,39.43,35.869999999999997,36.799999999999997,35.06,33,40.4,0,6,40.4]
["1. Ersatzfahrer :","Heller, Thomas ","männlich",32,0.9,58.977000000000004,33.630000000000003,31.9,0,0,0,0,0,2,33.630000000000003]
["2. Ersatzfahrer :","Leitsch, Martin","männlich",44,1,118.77,40.020000000000003,38.200000000000003,40.549999999999997,0,0,0,0,3,40.549999999999997]
["3. Ersatzfahrer :","Hahl, Eberhard","männlich",53,0.9,64.664999999999992,36.25,35.6,0,0,0,0,0,2,36.25]
["4. Ersatzfahrer :","Weigel, Konstantin","männlich",16,0.9,35.190000000000005,39.1,0,0,0,0,0,0,1,39.1]
[{"$nulls":4},0,0,{"$nulls":7},0,0]
[{"$nulls":4},0,0,{"$nulls":7},0,0]
[{"$nulls":4},0,0,{"$nulls":7},0,0]
[{"$nulls":4},0,0,{"$nulls":7},0,0]
[{"$nulls":4},0,0,{"$nulls":7},0,0]
[{"$nulls":4},0,0,{"$nulls":7},0,0]
[{"$nulls":4},0,0,{"$nulls":7},0,0]
[{"$nulls":4},0,0,{"$nulls":7},0,0]
[{"$nulls":4},0,0,{"$nulls":7},0,0]
[{"$nulls":4},0,0,{"$nulls":7},0,0]
[{"$nulls":4},0,0,{"$nulls":7},0,0]
[{"$nulls":4},0,0,{"$nulls":7},0,0]
[{"$nulls":4},0,0,{"$nulls":7},0,0]
[]
[]
[null,"Diese Felder bitte ausfüllen"]
[]
[null,"- Mannschaftsname"]
[null,"- Teamart","Frauen","Männer"]
[null,"- m/w","m(ännlich)","w(eiblich)"]
[null,"- geb.Datum"]
[null,"- TelNummer"]

{"sheet":"Auswertung","index":1,"n_rows":16,"n_cols":3,"rows_kept":16,"cut":false,"hidden":false,"merged":[]}
[]
[]
[]
[null,"Fahrer","Leistung"]
[1,{"$f":"Teamübersicht!B4","v":"Hahl, Klaus-Dieter"},{"$f":"Teamübersicht!F4","v":197.38000000000002}]
[2,{"$f":"Teamübersicht!B5","v":"Flügel, Winfried"},{"$f":"Teamübersicht!F5","v":72.990000000000009}]
[3,{"$f":"Teamübersicht!B6","v":"Krenzer, Ronald"},{"$f":"Teamübersicht!F6","v":190.09000000000003}]
[4,{"$f":"Teamübersicht!B7","v":"Kümmel, Elias"},{"$f":"Teamübersicht!F7","v":205.63}]
[5,{"$f":"Teamübersicht!B8","v":"Schleicher, Jonas"},{"$f":"Teamübersicht!F8","v":95.5}]
[6,{"$f":"Teamübersicht!B9","v":"Nassauer, Thorsten"},{"$f":"Teamübersicht!F9","v":220.14000000000001}]
[7,{"$f":"Teamübersicht!B10","v":"Hahl, Herbert"},{"$f":"Teamübersicht!F10","v":232.57}]
[8,{"$f":"Teamübersicht!B11","v":"Schleicher, Peter"},{"$f":"Teamübersicht!F11","v":220.56}]
[9,{"$f":"Teamübersicht!B12","v":"Heller, Thomas "},{"$f":"Teamübersicht!F12","v":58.977000000000004}]
[10,{"$f":"Teamübersicht!B13","v":"Leitsch, Martin"},{"$f":"Teamübersicht!F13","v":118.77}]
[11,{"$f":"Teamübersicht!B14","v":"Hahl, Eberhard"},{"$f":"Teamübersicht!F14","v":64.664999999999992}]
[12,{"$f":"Teamübersicht!B15","v":"Weigel, Konstantin"},{"$f":"Teamübersicht!F15","v":35.190000000000005}]

{"sheet":"Auswahldaten","index":2,"n_rows":4,"n_cols":5,"rows_kept":4,"cut":false,"hidden":false,"merged":[]}
[]
[null,"ACHTUNG: Diese Seite darf nicht verändert werden!"]
[null,"Teamart","Herren","Damen","Mixed"]
[null,"Fahrer","männlich","weiblich"]