{"text_format":"2","workbook":"xlsx","n_sheets":3,"sheets":["Teamübersicht","Auswertung","Auswahldaten"],"not_rendered":{"charts":1,"images":1,"macros":0,"external_links":0,"defined_names":8,"comments":1,"pivot_tables":0},"unopened":[],"bounds":{"document_bytes":16777216,"sheet_cells":100000,"run_cost":"one","rows_first":2000,"rows_last":500,"rows_between":2000,"halvings":0,"cell_chars":16384,"cell_head_chars":4096},"cells_cut":0,"cells_raw":0,"read":"whole","date_system":"1900"}

{"sheet":"Teamübersicht","index":0,"n_rows":37,"n_cols":14,"rows_kept":37,"cut":false,"hidden":false,"merged":[]}
["Mannschaftsname","Bike Box",{"$f":"SUM(E4:E28)","v":1755.1899999999996},{"$nulls":9},{"$f":"SUM(M4:M28)","v":48}]
["Teamart","Mixed"]
[null,"Name","m/w","Faktor","Leistung","1. Stunde","2.Stunde","3.Stunde","4. Stunde","5. Stunde","6. Stunde","7.Stunde","Anzahl","Beste"]
["Fahrer 1 :","Junk, Alexander","männlich",1,{"$f":"SUM(F4:L4)*D4","v":211.27999999999997},34.53,35.11,35.119999999999997,35.76,35.22,35.54,0,{"$f":"COUNTIF(F4:L4,\">0\")","v":6},{"$f":"MAX(F4:L4)","v":35.76}]
["Fahrer 2 :","Niwek, Bernd","männlich",0,{"$f":"SUM(F5:L5)*D5","v":0},{"$nulls":7},{"$f":"COUNTIF(F5:L5,\">0\")","v":0},{"$f":"MAX(F5:L5)","v":0}]
["Fahrer 3 :","Harth, Erich","männlich",1,204.32,34.6,33.33,34.42,32.950000000000003,32.94,36.08,0,6,36.08]
["Fahrer 4 :","Wiegand, Florian","männlich",1,220.70000000000002,41.45,35.19,35.299999999999997,35.5,33.020000000000003,40.24,0,6,41.45]
["Fahrer 5 :","Illichmann, Walter","männlich",1,{"$f":"SUM(F8:L8)*D8","v":191.60000000000002},32.020000000000003,33.1,30.8,32.54,31.53,31.61,0,6,33.1]
["Fahrer 6 :","Schleicher, Jan","männlich",1,{"$f":"SUM(F9:L9)*D9","v":101.86999999999999},34.9,32.049999999999997,34.92,0,0,0,0,3,34.92]
["Fahrer 7 :","Mehler, Martin","männlich",0,0,{"$nulls":7},0,0]
["Fahrer 8 :","Erb, Daniel","männlich",1,274.33,46.75,46.11,45.27,44.9,45.07,46.23,0,6,46.75]
["1. Ersatzfahrer :","Malkmus, Michael","männlich",1,246.82,45.6,43.41,38.07,39.299999999999997,38.24,42.2,0,6,45.6]
["2. Ersatzfahrer :","Kronberg, Fred","männlich",1,163.83000000000001,32.6,35.4,31.37,27.69,36.770000000000003,0,0,5,36.770000000000003]
[null,"Mayrhörmann, Thomas","männlich",1,77.08,37.04,40.04,0,0,0,0,0,2,40.04]
[null,"Suntrup, Florian","männlich",0.9,63.360000000000007,35.6,34.799999999999997,0,0,0,0,0,2,35.6]
[null,null,null,0,0,null,null,null,0,0,0,0,0,0]
[null,null,null,0,0,{"$nulls":7},0,0]
[null,null,null,0,0,{"$nulls":7},0,0]
[null,null,null,0,0,{"$nulls":7},{"$f":"COUNTIF(F19:L19,\">0\")","v":0},0]
[null,null,null,0,0,{"$nulls":7},0,0]
[null,null,null,0,0,{"$nulls":7},0,0]
[null,null,null,0,0,{"$nulls":7},0,0]
[null,null,null,0,0,{"$nulls":7},0,0]
[null,null,null,0,0,{"$nulls":7},0,0]
[null,null,null,0,0,{"$nulls":7},0,0]
[null,null,null,0,0,{"$nulls":7},0,0]
[null,null,null,0,0,{"$nulls":7},0,0]
[null,null,null,0,0,{"$nulls":7},0,0]
[]
[]
[null,"Diese Felder bitte ausfüllen"]
[]
[null,"- Mannschaftsname"]
[null,"- Teamart","Frauen"]
[null,"- m/w","m(ännlich)"]
[null,"- geb.Datum"]
[null,"- TelNummer"]

{"sheet":"Auswertung","index":1,"n_rows":14,"n_cols":3,"rows_kept":14,"cut":false,"hidden":false,"merged":[]}
[]
[]
[]
[null,"Fahrer","Leistung"]
[1,{"$f":"Teamübersicht!B4","v":"Junk, Alexander"},{"$f":"Teamübersicht!E4","v":211.27999999999997}]
[2,{"$f":"Teamübersicht!B5","v":"Niwek, Bernd"},{"$f":"Teamübersicht!E5","v":0}]
[3,{"$f":"Teamübersicht!B6","v":"Harth, Erich"},{"$f":"Teamübersicht!E6","v":204.32}]
[4,{"$f":"Teamübersicht!B7","v":"Wiegand, Florian"},{"$f":"Teamübersicht!E7","v":220.70000000000002}]
[5,{"$f":"Teamübersicht!B8","v":"Illichmann, Walter"},{"$f":"Teamübersicht!E8","v":191.60000000000002}]
[6,{"$f":"Teamübersicht!B9","v":"Schleicher, Jan"},{"$f":"Teamübersicht!E9","v":101.86999999999999}]
[7,{"$f":"Teamübersicht!B10","v":"Mehler, Martin"},{"$f":"Teamübersicht!E10","v":0}]
[8,{"$f":"Teamübersicht!B11","v":"Erb, Daniel"},{"$f":"Teamübersicht!E11","v":274.33}]
[9,{"$f":"Teamübersicht!B12","v":"Malkmus, Michael"},{"$f":"Teamübersicht!E12","v":246.82}]
[10,{"$f":"Teamübersicht!B13","v":"Kronberg, Fred"},{"$f":"Teamübersicht!E13","v":163.83000000000001}]

{"sheet":"Auswahldaten","index":2,"n_rows":4,"n_cols":5,"rows_kept":4,"cut":false,"hidden":false,"merged":[]}
[]
[null,"ACHTUNG: Diese Seite darf nicht verändert werden!"]
[null,"Teamart","Herren","Damen","Mixed"]
[null,"Fahrer","männlich","weiblich"]